BEGIN:VCALENDAR
VERSION:2.0
PRODID:-//eventon.com NONSGML v1.0//EN
CALSCALE:GREGORIAN
METHOD:PUBLISH
BEGIN:VEVENT
UID:69e9a76b88787
DTSTAMP:20260423T050027Z
DTSTART:20260527T120000Z
DTEND:20260527T133000Z
LOCATION:Hilton Charlotte Uptown 222 EAST THIRD STREET\,  CHARLOTTE\,  NORTH CAROLINA\,  28202\,  USA
SUMMARY:WACC Speaker Series with David Sanger\,  White House and National Security Correspondent at the New York Times\,  and Author — “New Cold Wars: China’s Rise\,  Russia’s Invasion\,  and America’s Struggle to Defend the West”
DESCRIPTION:New Cold Wars: China&#8217;s Rise\,  Russia&#8217;s Invasion\, 
  and America&#8217;s Struggle to Defend the West The World Affairs Council 
 of Charlotte will host David Sanger\,  White House and National Security Co
 rrespondent at the New York Times and author\,  as part of the WACC Speaker
  Series on May 27th\,  2026. Few journalists[..]\nhttps://worldaffairscharl
 otte.org/events/wacc-speaker-series-david-sanger-new-cold-wars/
URL:https://worldaffairscharlotte.org/events/wacc-speaker-series-david-sanger-new-cold-wars/
END:VEVENT
END:VCALENDAR