BEGIN:VCALENDAR
VERSION:2.0
PRODID:-//eventon.com NONSGML v1.0//EN
CALSCALE:GREGORIAN
METHOD:PUBLISH
BEGIN:VEVENT
UID:69e9a74ef1673
DTSTAMP:20260423T045958Z
DTSTART:20260420T200000Z
DTEND:20260420T210000Z
LOCATION:
SUMMARY:WACC Partner Program with WACC Partner Program with Steven Cook\,  Senior Middle East Expert at the Council on Foreign Relations; Ambassador Deborah Jones\,  U.S. Ambassador (ret.) to Kuwait and Libya; and Beth Sanner\,  CNN National Security Contributor and former Deputy Director of National Intelligence --  "The Iran War: What We Know\,  What Comes Next"
DESCRIPTION:WACC Partner Program with WorldNow The Iran War: What We Know\,
   What Comes Next With the U.S. and Iran now in open conflict and the world
 ’s energy supply under threat\,  the stakes could not be higher – or mo
 re uncertain. Join us on WorldNow with Jim Falk as we sit down with Stev
 en[..]\nhttps://worldaffairscharlotte.org/events/april-20-2026-wacc-partner
 -program-iran-war-what-we-know-what-comes-next/
URL:https://worldaffairscharlotte.org/events/april-20-2026-wacc-partner-program-iran-war-what-we-know-what-comes-next/
END:VEVENT
END:VCALENDAR