BEGIN:VCALENDAR
VERSION:2.0
PRODID:-//eventon.com NONSGML v1.0//EN
CALSCALE:GREGORIAN
METHOD:PUBLISH
BEGIN:VEVENT
UID:69e9a76c8cc43
DTSTAMP:20260423T050028Z
DTSTART:20260521T120000Z
DTEND:20260521T133000Z
LOCATION:TBD
SUMMARY:WACC Global Sports Series Luncheon with Zoran Krneta\,  General Manager at Charlotte Football Club\,  “Charlotte’s Summer of Soccer”
DESCRIPTION:Charlotte&#8217;s Summer of Soccer The Charlotte Football Club 
 (Charlotte FC) season began with its season opener on March 21st against th
 e New York Red Bulls with a 6 to 1 win. What began as a dream to bring Majo
 r League Soccer (MLS) to Charlotte has grown into a cornerstone of[..]\nhtt
 ps://worldaffairscharlotte.org/events/wacc-global-sports-series-luncheon-wi
 th-zoran-krneta-general-manager-at-charlotte-fc/
URL:https://worldaffairscharlotte.org/events/wacc-global-sports-series-luncheon-with-zoran-krneta-general-manager-at-charlotte-fc/
END:VEVENT
END:VCALENDAR