BEGIN:VCALENDAR
VERSION:2.0
PRODID:-//eventon.com NONSGML v1.0//EN
CALSCALE:GREGORIAN
METHOD:PUBLISH
BEGIN:VEVENT
UID:69e9a76c13f50
DTSTAMP:20260423T050028Z
DTSTART:20260505T120000Z
DTEND:20260505T130000Z
LOCATION:Hilton Charlotte Uptown 222 EAST THIRD STREET\,  CHARLOTTE\,  NORTH CAROLINA\,  28202\,  USA
SUMMARY:WACC Ambassadors Circle Series with Ambassador Philip Reeker\,  former Assistant Secretary of State for Europe and Eurasia\,  former Ambassador to North Macedonia\,  and Partner and Lead of the Europe and Eurasia Practice at DGA-Albright Stonebridge Group
DESCRIPTION:The Uncertain Alliance: U.S.–Europe Relations in an Age of Di
 sruption The U.S.-Europe relationship is entering a period of deep uncertai
 nty and eroding trust\,  as the United States prioritizes domestic economic
  interests\,  transactional diplomacy\,  and national security. Coupled wit
 h the ongoing war between Russia and Ukraine\,  climate change\,  economic 
 uncertainty\,  and[..]\nhttps://worldaffairscharlotte.org/events/wacc-ambas
 sadors-circle-series-with-ambassador-philip-reeker-former-assistant-secreta
 ry-of-state-for-europe-and-eurasia-former-ambassador-to-north-macedonia-and
 -partner-and-lead-of-the-europe-and-e-2/
URL:https://worldaffairscharlotte.org/events/wacc-ambassadors-circle-series-with-ambassador-philip-reeker-former-assistant-secretary-of-state-for-europe-and-eurasia-former-ambassador-to-north-macedonia-and-partner-and-lead-of-the-europe-and-e-2/
END:VEVENT
END:VCALENDAR