BEGIN:VCALENDAR
VERSION:2.0
PRODID:-//eventon.com NONSGML v1.0//EN
CALSCALE:GREGORIAN
METHOD:PUBLISH
BEGIN:VEVENT
UID:69e9a74f7fe96
DTSTAMP:20260423T045959Z
DTSTART:20260407T173000Z
DTEND:20260407T193000Z
LOCATION:
SUMMARY:WACC 2026 China Town Hall Conversation on "The U.S.-China AI Race" +  2026 Annual China Town Hall Hosted by the  National Committee on United States-China Relations (Virtual)
DESCRIPTION:World Affairs Council of Charlotte China Town Hall Conversation
  on &#8220;The U.S.-China AI Race&#8221; Min Jiang (Ph.D.)  Professor of C
 ommunication Studies\,  Affiliate Faculty of International Studies &amp; Ph
 .D. Program in Public Policy at UNC Charlotte In early March 2026\,  Beijin
 g legislators approved China&#8217;s five-year plan (2026-2030)\,  with a c
 lear roadmap[..]\nhttps://worldaffairscharlotte.org/events/wacc-2026-china-
 town-hall-conversation-on-the-u-s-china-ai-race-2026-annual-china-town-hall
 -hosted-by-the-national-committee-on-united-states-china-relations/
URL:https://worldaffairscharlotte.org/events/wacc-2026-china-town-hall-conversation-on-the-u-s-china-ai-race-2026-annual-china-town-hall-hosted-by-the-national-committee-on-united-states-china-relations/
END:VEVENT
END:VCALENDAR