BEGIN:VCALENDAR
VERSION:2.0
PRODID:-//eventon.com NONSGML v1.0//EN
CALSCALE:GREGORIAN
METHOD:PUBLISH
BEGIN:VEVENT
UID:69e9a751822b7
DTSTAMP:20260423T050001Z
DTSTART:20260414T183000Z
DTEND:20260414T203000Z
LOCATION:
SUMMARY:WACC Private Dinner with the Honorable Elaine F. Marshall\,  North Carolina Secretary of State
DESCRIPTION:The World Affairs Council of Charlotte invites members and part
 ners to an exclusive private dinner with the Honorable Elaine F. Marshall\,
   North Carolina Secretary of State on Tuesday\,  April 14\,  2026. This in
 timate evening will have the opportunity to hear directly from Secretary Ma
 rshall\,  who will share her perspective on[..]\nhttps://worldaffairscharlo
 tte.org/events/wacc-private-dinner-with-the-honorable-elaine-f-marshall-nor
 th-carolina-secretary-of-state/
URL:https://worldaffairscharlotte.org/events/wacc-private-dinner-with-the-honorable-elaine-f-marshall-north-carolina-secretary-of-state/
END:VEVENT
END:VCALENDAR