BEGIN:VCALENDAR
VERSION:2.0
PRODID:-//eventon.com NONSGML v1.0//EN
CALSCALE:GREGORIAN
METHOD:PUBLISH
BEGIN:VEVENT
UID:69e9a75086b83
DTSTAMP:20260423T050000Z
DTSTART:20260415T120000Z
DTEND:20260415T133000Z
LOCATION:Hilton Charlotte Uptown 222 EAST THIRD STREET\,  CHARLOTTE\,  NORTH CAROLINA\,  28202\,  USA
SUMMARY:WACC Global Business Series with the Honorable Elaine F. Marshall\,  North Carolina Secretary of State
DESCRIPTION:Local Roots\,  Global Reach: Driving Economic Growth Through In
 ternational Partnerships Join the World Affairs Council of Charlotte on Apr
 il 15th for a timely and important conversation with North Carolina Secreta
 ry of State Elaine Marshall\,  who will explore how global relationships ar
 e strengthening local communities and driving record-setting economic growt
 h across[..]\nhttps://worldaffairscharlotte.org/events/wacc-global-business
 -series-with-the-honorable-elaine-f-marshall-north-carolina-secretary-of-st
 ate/
URL:https://worldaffairscharlotte.org/events/wacc-global-business-series-with-the-honorable-elaine-f-marshall-north-carolina-secretary-of-state/
END:VEVENT
END:VCALENDAR