BEGIN:VCALENDAR
VERSION:2.0
PRODID:-//eventon.com NONSGML v1.0//EN
CALSCALE:GREGORIAN
METHOD:PUBLISH
BEGIN:VEVENT
UID:69ecf129e033d
DTSTAMP:20260425T165153Z
DTSTART:20250424T173000Z
DTEND:20250424T183000Z
LOCATION:
SUMMARY:China Town Hall 2025 (Virtual)
DESCRIPTION:2025 Annual China Town Hall Leading China experts Ryan Hass\,  
 director of John L. Thornton China Center at the Brookings Institution\,  M
 atthew Turpin\,  visiting fellow at the Hoover Institution\,  and Lingling 
 Wei\,  chief correspondent at The Wall Street Journal\,  will be the featur
 ed speakers for CHINA Town Hall 2025\,  a[..]\nhttps://worldaffairscharlott
 e.org/events/chinatownhall2025/
URL:https://worldaffairscharlotte.org/events/chinatownhall2025/
END:VEVENT
END:VCALENDAR